BEGIN:VCALENDAR
VERSION:2.0
PRODID:icalendar-ruby
CALSCALE:GREGORIAN
METHOD:PUBLISH
BEGIN:VEVENT
DTSTAMP:20260422T000856Z
UID:7-1888957@greaterharvest.tithelysetup4.com
DTSTART:20260920T133000Z
DTEND:20260920T160000Z
CLASS:PUBLIC
CREATED:20260421T195455
DESCRIPTION:Join us in Worship!  Click the Livestream button to watch the 
 service.
LAST-MODIFIED:20260421T195455
LOCATION:
SUMMARY:Worship Service
URL;VALUE=URI:https://greaterharvest.tithelysetup4.com/events/worship-servi
 ce--6/2026-09-20
ATTACH;FILENAME=GHCM eService.jpg;FMTTYPE=image/jpeg:https://dq5pwpg1q8ru0.
 cloudfront.net/2020/08/16/07/48/55/b47fa7f7-af11-4dd6-b0d6-cc07f8816d29/GH
 CM%20eService.jpg
END:VEVENT
END:VCALENDAR
