BEGIN:VCALENDAR
VERSION:2.0
PRODID:icalendar-ruby
CALSCALE:GREGORIAN
METHOD:PUBLISH
BEGIN:VEVENT
DTSTAMP:20260422T105830Z
UID:5-1889666@greaterharvest.tithelysetup4.com
DTSTART:20261101T160000Z
DTEND:20261101T170000Z
CLASS:PUBLIC
CREATED:20260422T065314
DESCRIPTION:Sunday Worship
LAST-MODIFIED:20260422T065314
LOCATION:
SUMMARY:Sunday Worship
URL;VALUE=URI:https://greaterharvest.tithelysetup4.com/events/sunday-worshi
 p/2026-11-01
END:VEVENT
END:VCALENDAR
