BEGIN:VCALENDAR
VERSION:2.0
PRODID:icalendar-ruby
CALSCALE:GREGORIAN
METHOD:PUBLISH
BEGIN:VEVENT
DTSTAMP:20260422T080359Z
UID:5-1888637@greaterharvest.tithelysetup4.com
DTSTART:20261018T150000Z
DTEND:20261018T160000Z
CLASS:PUBLIC
CREATED:20260421T195454
DESCRIPTION:Sunday Worship
LAST-MODIFIED:20260421T195454
LOCATION:
SUMMARY:Sunday Worship
URL;VALUE=URI:https://greaterharvest.tithelysetup4.com/events/sunday-worshi
 p/2026-10-18
END:VEVENT
END:VCALENDAR
