BEGIN:VCALENDAR
VERSION:2.0
PRODID:icalendar-ruby
CALSCALE:GREGORIAN
METHOD:PUBLISH
BEGIN:VEVENT
DTSTAMP:20260422T013107Z
UID:1-1888256@greaterharvest.tithelysetup4.com
DTSTART:20260930T230000Z
DTEND:20261001T010000Z
CLASS:PUBLIC
CREATED:20260421T195453
DESCRIPTION:At the moment\, we are hosting our services at limited capacity
 .  In order to attend\, you must register through EventBrite.  The regis
 tration link can be found at our Facebook page.  You can always livestrea
 m the service on our website.
LAST-MODIFIED:20260421T195453
LOCATION:
SUMMARY:Bible Study
URL;VALUE=URI:https://greaterharvest.tithelysetup4.com/events/bible-study/2
 026-09-30
ATTACH;FILENAME=GHCM Bible Study Website.jpg;FMTTYPE=image/jpeg:https://dq5
 pwpg1q8ru0.cloudfront.net/2020/08/16/07/52/09/1a85b7a9-76ea-49ab-b077-96c4
 49e37916/GHCM%20Bible%20Study%20Website.jpg
END:VEVENT
END:VCALENDAR
